BEGIN:VCALENDAR
VERSION:2.0
PRODID:-//Vermilionville - ECPv6.15.20//NONSGML v1.0//EN
CALSCALE:GREGORIAN
METHOD:PUBLISH
X-WR-CALNAME:Vermilionville
X-ORIGINAL-URL:https://bayouvermiliondistrict.org
X-WR-CALDESC:Events for Vermilionville
REFRESH-INTERVAL;VALUE=DURATION:PT1H
X-Robots-Tag:noindex
X-PUBLISHED-TTL:PT1H
BEGIN:VTIMEZONE
TZID:America/Chicago
BEGIN:DAYLIGHT
TZOFFSETFROM:-0600
TZOFFSETTO:-0500
TZNAME:CDT
DTSTART:20200308T080000
END:DAYLIGHT
BEGIN:STANDARD
TZOFFSETFROM:-0500
TZOFFSETTO:-0600
TZNAME:CST
DTSTART:20201101T070000
END:STANDARD
BEGIN:DAYLIGHT
TZOFFSETFROM:-0600
TZOFFSETTO:-0500
TZNAME:CDT
DTSTART:20210314T080000
END:DAYLIGHT
BEGIN:STANDARD
TZOFFSETFROM:-0500
TZOFFSETTO:-0600
TZNAME:CST
DTSTART:20211107T070000
END:STANDARD
BEGIN:DAYLIGHT
TZOFFSETFROM:-0600
TZOFFSETTO:-0500
TZNAME:CDT
DTSTART:20220313T080000
END:DAYLIGHT
BEGIN:STANDARD
TZOFFSETFROM:-0500
TZOFFSETTO:-0600
TZNAME:CST
DTSTART:20221106T070000
END:STANDARD
END:VTIMEZONE
BEGIN:VEVENT
DTSTART;VALUE=DATE:20211016
DTEND;VALUE=DATE:20211017
DTSTAMP:20260419T233054
CREATED:20210928T125413Z
LAST-MODIFIED:20210928T125413Z
UID:10000801-1634342400-1634428799@bayouvermiliondistrict.org
SUMMARY:Vermilionville’s Painting Class Series: Painting with History!
DESCRIPTION:Vermilionville invites you to come paint with us!  Anyone can participate in our new painting class series on Saturday\, October 16th from 10 a.m.-12 p.m.  Registration is required and includes all art supplies as well as mimosas and strawberry infused water.  You also have the option to add a delicious lunch with bayou chicken caesar wrap\, pasta salad\, cookie\, and lemonade. \nThis class is Halloween-themed. You will learn to paint Vermilionville’s oldest historic house\, Maison Broussard.  Historical information and fun facts about the Maison Broussard and Halloween will be shared with the group as we paint. Spots are limited\, so make your reservation today! \nFor more information and to register for this class\, visit this link: https://form.jotform.com/80424226503952.
URL:https://bayouvermiliondistrict.org/event/vermilionvilles-painting-class-series-painting-with-history-2/
LOCATION:Bayou Vermilion\, 300 Fisher Road\, Lafayette\, 70506\, United States
CATEGORIES:Painting with History
ATTACH;FMTTYPE=image/jpeg:https://bayouvermiliondistrict.org/wp-content/uploads/2021/09/Class-Painting-with-History-Maison-Broussard-Halloween-Small.jpg
ORGANIZER;CN="Vermilionville":MAILTO:Communications@BayouVermilionDistrict.org
END:VEVENT
BEGIN:VEVENT
DTSTART;VALUE=DATE:20211017
DTEND;VALUE=DATE:20211018
DTSTAMP:20260419T233054
CREATED:20210921T205437Z
LAST-MODIFIED:20210921T205437Z
UID:10000790-1634428800-1634515199@bayouvermiliondistrict.org
SUMMARY:Vermilionville Bal du Dimanche (Sunday Dance):  Gerard Delafose and the Zydeco Gators
DESCRIPTION:Bayou Vermilion District & Vermilionville host a live concert series EVERY SUNDAY.  The concert series is held in Vermilionville’s Performance Center venue from 1-4 p.m.  Admission is $10 and includes a self-guided tour of the Vermilionville Living History museum. \nCome early and grab lunch at Vermilionville’s restaurant\, La Cuisine de Maman.  The restaurant is open every Sunday from 11 a.m.-2 p.m. and features authentic Cajun and Creole cuisine. On Sundays\, the restaurant features an all-you-can-eat Sunday buffet. \nSunday\, October 17\, 2021 featured band:  Gerard Delafose and the Zydeco Gators \nAdmission to the Live Concert Series is included in your Bayou Vermilion District & Vermilionville membership.  To purchase or renew your membership online\, visit this link:  https://bayouvermiliondistrict.org/membership.
URL:https://bayouvermiliondistrict.org/event/vermilionville-bal-du-dimanche-sunday-dance-gerard-delafose-and-the-zydeco-gators/
LOCATION:Bayou Vermilion\, 300 Fisher Road\, Lafayette\, 70506\, United States
CATEGORIES:Music
ATTACH;FMTTYPE=image/jpeg:https://bayouvermiliondistrict.org/wp-content/uploads/2021/09/Music-Gerard-Delafose.jpg
ORGANIZER;CN="Vermilionville":MAILTO:Communications@BayouVermilionDistrict.org
END:VEVENT
END:VCALENDAR