BEGIN:VCALENDAR
VERSION:2.0
PRODID:-//Vermilionville - ECPv6.15.20//NONSGML v1.0//EN
CALSCALE:GREGORIAN
METHOD:PUBLISH
X-WR-CALNAME:Vermilionville
X-ORIGINAL-URL:https://bayouvermiliondistrict.org
X-WR-CALDESC:Events for Vermilionville
REFRESH-INTERVAL;VALUE=DURATION:PT1H
X-Robots-Tag:noindex
X-PUBLISHED-TTL:PT1H
BEGIN:VTIMEZONE
TZID:America/Chicago
BEGIN:DAYLIGHT
TZOFFSETFROM:-0600
TZOFFSETTO:-0500
TZNAME:CDT
DTSTART:20200308T080000
END:DAYLIGHT
BEGIN:STANDARD
TZOFFSETFROM:-0500
TZOFFSETTO:-0600
TZNAME:CST
DTSTART:20201101T070000
END:STANDARD
BEGIN:DAYLIGHT
TZOFFSETFROM:-0600
TZOFFSETTO:-0500
TZNAME:CDT
DTSTART:20210314T080000
END:DAYLIGHT
BEGIN:STANDARD
TZOFFSETFROM:-0500
TZOFFSETTO:-0600
TZNAME:CST
DTSTART:20211107T070000
END:STANDARD
BEGIN:DAYLIGHT
TZOFFSETFROM:-0600
TZOFFSETTO:-0500
TZNAME:CDT
DTSTART:20220313T080000
END:DAYLIGHT
BEGIN:STANDARD
TZOFFSETFROM:-0500
TZOFFSETTO:-0600
TZNAME:CST
DTSTART:20221106T070000
END:STANDARD
END:VTIMEZONE
BEGIN:VEVENT
DTSTART;VALUE=DATE:20211003
DTEND;VALUE=DATE:20211004
DTSTAMP:20260424T163910
CREATED:20210921T203931Z
LAST-MODIFIED:20210921T203931Z
UID:10000788-1633219200-1633305599@bayouvermiliondistrict.org
SUMMARY:Vermilionville Bal du Dimanche (Sunday Dance):  Bobby Page and Swamp Pop Express
DESCRIPTION:Bayou Vermilion District & Vermilionville host a live concert series EVERY SUNDAY.  The concert series is held in Vermilionville’s Performance Center venue from 1-4 p.m.  Admission is $10 and includes a self-guided tour of the Vermilionville Living History museum. \nCome early and grab lunch at Vermilionville’s restaurant\, La Cuisine de Maman.  The restaurant is open every Sunday from 11 a.m.-2 p.m. and features authentic Cajun and Creole cuisine. On Sundays\, the restaurant features an all-you-can-eat Sunday buffet. \nSunday\, October 3\, 2021 featured band:  Bobby Page and Swamp Pop Express \nAdmission to the Live Concert Series is included in your Bayou Vermilion District & Vermilionville membership.  To purchase or renew your membership online\, visit this link:  https://bayouvermiliondistrict.org/membership.
URL:https://bayouvermiliondistrict.org/event/vermilionville-bal-du-dimanche-sunday-dance-bobby-page-and-swamp-pop-express/
LOCATION:Bayou Vermilion\, 300 Fisher Road\, Lafayette\, 70506\, United States
CATEGORIES:Music
ATTACH;FMTTYPE=image/jpeg:https://bayouvermiliondistrict.org/wp-content/uploads/2021/09/Music-Crowd.jpg
ORGANIZER;CN="Vermilionville":MAILTO:Communications@BayouVermilionDistrict.org
END:VEVENT
BEGIN:VEVENT
DTSTART;TZID=America/Chicago:20211008T080000
DTEND;TZID=America/Chicago:20211008T170000
DTSTAMP:20260424T163910
CREATED:20210928T122831Z
LAST-MODIFIED:20210928T122831Z
UID:10000800-1633680000-1633712400@bayouvermiliondistrict.org
SUMMARY:Frank and Tony Productions Present:  Band of Heathens in Concert
DESCRIPTION:Frank and Tony Productions present Band of Heathens in concert at Vermilionville Performance Center on Friday\, October 8\, 2021. \nReserved seats are $45. Only 275 seats will be sold.  This is a reserved seating event. You may select your seat option from the seating chart at time of purchase.  There are only 10 rows in this very intimate venue.  Online ticket sales end 2 p.m. day of show. Remaining tickets will be available the evening of the show at the box office. No Refunds.  Doors Open 7 p.m.  Show Starts 8 p.m. Sharp. \nPURCHASE TICKETS AT THE LINK BELOW: \nhttps://www.eventbrite.com/e/band-of-heathens-in-concert-at-vermilionville-friday-october-8-2021-tickets-91852668805 \nThe Band of Heathens\nSometimes it’s the “happy accidents\,” rather than elaborately laid plans\, that lead to something lasting\, and that’s precisely the case with award-winning Austin rock and roll stalwarts\, The Band of Heathens. \n“It’s really funny how the loose\, tequila-fueled weekly side-project that started almost 14 years ago has evolved into what the band is today\,” singer and songwriter Gordy Quist says with a laugh as he recalls the band’s road to success. \nBut planned or not\, the band has enjoyed sustained success for more than a decade\, racking up 10 albums and more than twelve hundred performances in thirteen countries. Quist and Ed Jurdi\, the band’s other principal singer and songwriter\, are the only founding members still in the group that first came together in 2005. The core lineup of Jurdi and Quist on guitars and lead vocals\, were joined by Trevor Nealon on keys in 2009 and Richard Millsap on drums in 2012. Bassist Jesse Wilson came on board in 2017. \nDespite a few changes in personnel along the way\, one thing has remained constant for the band. “The thing we always set out to do was to make timeless music\, timeless records\,” Jurdi says. “Not what’s fashionable or what’s trendy\, but what inspires \nThe Band of Heathens’ first two releases were live recordings and the funky\, soulful\, rootsy sounds on those live records would come to be the band’s hallmark. “People say\, ‘What kind of music do you play\,’ and we say\, ‘Rock and roll\,’” Quist says. “And it’s always like\, ‘Oh\, rock?’ ‘No\, not rock\, rock and roll\, with the roll in it.’ Because the roll implies a groove and a funkiness that modern rock just does not have. … We’re a rock and roll band.” \nBetween 2008 and 2016\, The Band of Heathens released five studio albums\, four of which went to either number one or number two on the Americana Radio Albums Chart\, and earned a pair of Americana Music Awards nominations. Then in 2018\, they released the acclaimed A Message from the People Revisited\, a recreation of the legendary 1972 Ray Charles album\, A Message from the People. \nListen and watch Band Of Heathens below link:
URL:https://bayouvermiliondistrict.org/event/frank-and-tony-productions-present-band-of-heathens-in-concert/
LOCATION:Bayou Vermilion\, 300 Fisher Road\, Lafayette\, 70506\, United States
CATEGORIES:Music,Special Event
ATTACH;FMTTYPE=image/jpeg:https://bayouvermiliondistrict.org/wp-content/uploads/2021/09/Event-FrankandTony-Band-of-Heathens.jpg
ORGANIZER;CN="Frank and Tony Productions":MAILTO:fcamalo@aol.com
END:VEVENT
BEGIN:VEVENT
DTSTART;VALUE=DATE:20211010
DTEND;VALUE=DATE:20211011
DTSTAMP:20260424T163910
CREATED:20210921T204530Z
LAST-MODIFIED:20210921T204530Z
UID:10000789-1633824000-1633910399@bayouvermiliondistrict.org
SUMMARY:Vermilionville Bal du Dimanche (Sunday Dance):  Jimmy Breaux and Friends
DESCRIPTION:Bayou Vermilion District & Vermilionville host a live concert series EVERY SUNDAY.  The concert series is held in Vermilionville’s Performance Center venue from 1-4 p.m.  Admission is $10 and includes a self-guided tour of the Vermilionville Living History museum. \nCome early and grab lunch at Vermilionville’s restaurant\, La Cuisine de Maman.  The restaurant is open every Sunday from 11 a.m.-2 p.m. and features authentic Cajun and Creole cuisine. On Sundays\, the restaurant features an all-you-can-eat Sunday buffet. \nSunday\, September 26\, 2021 featured band:  Jimmy Breaux and Friends \nAdmission to the Live Concert Series is included in your Bayou Vermilion District & Vermilionville membership.  To purchase or renew your membership online\, visit this link:  https://bayouvermiliondistrict.org/membership.
URL:https://bayouvermiliondistrict.org/event/vermilionville-bal-du-dimanche-sunday-dance-jimmy-breaux/
LOCATION:Bayou Vermilion\, 300 Fisher Road\, Lafayette\, 70506\, United States
CATEGORIES:Music
ATTACH;FMTTYPE=image/jpeg:https://bayouvermiliondistrict.org/wp-content/uploads/2021/09/Music-Jimmy-Breaux.jpg
ORGANIZER;CN="Vermilionville":MAILTO:Communications@BayouVermilionDistrict.org
END:VEVENT
BEGIN:VEVENT
DTSTART;VALUE=DATE:20211017
DTEND;VALUE=DATE:20211018
DTSTAMP:20260424T163910
CREATED:20210921T205437Z
LAST-MODIFIED:20210921T205437Z
UID:10000790-1634428800-1634515199@bayouvermiliondistrict.org
SUMMARY:Vermilionville Bal du Dimanche (Sunday Dance):  Gerard Delafose and the Zydeco Gators
DESCRIPTION:Bayou Vermilion District & Vermilionville host a live concert series EVERY SUNDAY.  The concert series is held in Vermilionville’s Performance Center venue from 1-4 p.m.  Admission is $10 and includes a self-guided tour of the Vermilionville Living History museum. \nCome early and grab lunch at Vermilionville’s restaurant\, La Cuisine de Maman.  The restaurant is open every Sunday from 11 a.m.-2 p.m. and features authentic Cajun and Creole cuisine. On Sundays\, the restaurant features an all-you-can-eat Sunday buffet. \nSunday\, October 17\, 2021 featured band:  Gerard Delafose and the Zydeco Gators \nAdmission to the Live Concert Series is included in your Bayou Vermilion District & Vermilionville membership.  To purchase or renew your membership online\, visit this link:  https://bayouvermiliondistrict.org/membership.
URL:https://bayouvermiliondistrict.org/event/vermilionville-bal-du-dimanche-sunday-dance-gerard-delafose-and-the-zydeco-gators/
LOCATION:Bayou Vermilion\, 300 Fisher Road\, Lafayette\, 70506\, United States
CATEGORIES:Music
ATTACH;FMTTYPE=image/jpeg:https://bayouvermiliondistrict.org/wp-content/uploads/2021/09/Music-Gerard-Delafose.jpg
ORGANIZER;CN="Vermilionville":MAILTO:Communications@BayouVermilionDistrict.org
END:VEVENT
BEGIN:VEVENT
DTSTART;VALUE=DATE:20211024
DTEND;VALUE=DATE:20211025
DTSTAMP:20260424T163910
CREATED:20210921T212652Z
LAST-MODIFIED:20210921T212652Z
UID:10000791-1635033600-1635119999@bayouvermiliondistrict.org
SUMMARY:Vermilionville Bal du Dimanche (Sunday Dance):  Curtis Poullard and the Creole Zydeco Band
DESCRIPTION:Bayou Vermilion District & Vermilionville host a live concert series EVERY SUNDAY.  The concert series is held in Vermilionville’s Performance Center venue from 1-4 p.m.  Admission is $10 and includes a self-guided tour of the Vermilionville Living History museum. \nCome early and grab lunch at Vermilionville’s restaurant\, La Cuisine de Maman.  The restaurant is open every Sunday from 11 a.m.-2 p.m. and features authentic Cajun and Creole cuisine. On Sundays\, the restaurant features an all-you-can-eat Sunday buffet. \nSunday\, October 24\, 2021 featured band:  Curtis Poullard and the Creole Zydeco Band \nAdmission to the Live Concert Series is included in your Bayou Vermilion District & Vermilionville membership.  To purchase or renew your membership online\, visit this link:  https://bayouvermiliondistrict.org/membership.
URL:https://bayouvermiliondistrict.org/event/vermilionville-bal-du-dimanche-sunday-dance-curtis-poullard-and-the-creole-zydeco-band/
LOCATION:Bayou Vermilion\, 300 Fisher Road\, Lafayette\, 70506\, United States
CATEGORIES:Music
ATTACH;FMTTYPE=image/jpeg:https://bayouvermiliondistrict.org/wp-content/uploads/2021/09/Music-Curtis-Poullard.jpg
ORGANIZER;CN="Vermilionville":MAILTO:Communications@BayouVermilionDistrict.org
END:VEVENT
END:VCALENDAR